BEGIN:VCALENDAR
VERSION:2.0
PRODID:-//https://www.pecc.org///NONSGML kigkonsult.se iCalcreator 2.10.15//
METHOD:PUBLISH
BEGIN:VEVENT
UID:20260423T110020UTC-7405BuB4kj@https://www.pecc.org/
DTSTAMP:20260423T110020Z
DESCRIPTION:17th General Meeting of PECC\n\nAUSPECC is delighted to host th
 e 17th General Meeting of PECC in Sydney during 29 April - 2 May 2007. Thi
 s will be the first time that PECC has convened a General Meeting in Austr
 alia since its inaugural meeting in September 1980.\n&nbsp\;\n\n\n\n\n&nbs
 p\;\nMonday 30 April\n\n\n\n\n1800-1930\n\n\nGeneral Meeting Welcome Recep
 tion \n\n\n\n\nTuesday 1 May\n\n\n\n\n0900-1000\n\n\nOpening Ceremony\nOpe
 ning Remarks:\n\nDr Charles E. Morrison\; Chair PECC\n\nWelcoming Remarks 
  \n\nMr Bill Shields\; Chair Australia PECC\n\n  Opening Address: APEC 200
 7 - The Challenges and Opportunities (31.56 kB)\n\nAmb David Spencer\; Aus
 tralian Ambassador for APEC and Chair of APEC Senior Officials’ Meeting\n
 \n\n\n\n\n1000-1030\n\nTea and Coffee\n\n\n\n1030-1230\n\n\nThe State of t
 he Region\nSession Chair: \n\nDr Narongchai Akrasanee\; Vice Chair Thailan
 d PECC\n\n  Regional Economic Integration - A Business Perspective (61.52 
 kB)\n \n\nMark Johnson\; Chair\, APEC Business Advisory Council  Session I
 I - The State of the Region (134.35 kB)  \n\nPanel:\n\nAlan Beattie\; Worl
 d Trade Editor Financial Times\, London  Session II - The State of the Reg
 ion (80.89 kB) \nYuen Pau Woo\; President and Co-Ceo\, Asia Pacific Founda
 tion of Canada  Session II - The State of the Region (119.41 kB) \nDr Phil
 ippa Dee\; Crawford School of Economics\, The Australian National Universi
 ty   Success in structural reform and how to get there (57.05 kB)  \nDr Lu
 is Riveros\; Asia Latin America Centre\, University of Chile  The State of
  the Latin American Region (167.38 kB) \nProfessor John Wong\; East Asian 
 Institute\, National University of Singapore  Rising China As A New Force 
 For Regional Economic Integration (62.56 kB)  \n\nModerator: \n\nPeter Tho
 mpson\; ABC TV and Professor\, Australia and New Zealand School of Governm
 ent\n\nRapporteur:  \n\nDr Sherry Stephenson\; Organisation of American St
 ates  Session II - The State of the Region (Summary) (75.7 kB) \n\n\n\n\n
 \n1230-1300\n\n\nBuffet Lunch\n\n\n\n\n1330-1445\n\n\nThe Role of Public P
 rivate Partnerships (in cooperation with Infrastructure Partnerships Austr
 alia)\nSession Chair: \n\nProfessor Christopher Findlay\; Vice-Chair Austr
 alia PECC \n\nCase Studies:\n The Role of Public-Private Partnerships (968
 .21 kB) \n\nNicholas Grambas\; Executive Director Macquarie Securities\, K
 orea\n\n Service matters to the role of public private partnerships (1.03 
 MB) \n\nAdrian Kloeden\; Chairman Serco Pty Ltd\nProfessor Jean Luc Le Bid
 eau\; French Pacific Territories PECC \nYves Cousquer   Guidelines for Goo
 d Public Private Partnerships (1.79 MB) \n\n&nbsp\; An invitation to parti
 cipate: Infrastructure Partnerships Global Dialogue (316.79 kB) \n\nGarry 
 Bowditch\; Executive Director\, Infrastructure Partnerships Australia \n\n
 \n\n\n1445-1500\n\nBreak\n\n\n\n\n1500-1700\n\n\nBuilding Institutions to 
 Serve the Region\nSession Chair: \n\nAmb Yoshihisa Ara\; Chair Japan PECC
 \n\nPresentation  Issues in Regional Institutional Architecture \n\nDr Cha
 rles E. Morrison\; Chair PECC \n Mr Jusuf Wanandi\; Chair Indonesia PECC\n
 \n&nbsp\; Building Institutions to Serve the Region (232.28 kB)\nPanel Dis
 cussion  The value and priorities for regional cooperation through APEC to
  meet the challenges to growth\nPanel: \n\nDr Hadi Soesastro\; Centre for 
 Strategic and International Studies\, Indonesia\nMr Allan Gyngell\; Execut
 ive Director Lowy Institute\, Sydney\nDr Kim Kihwan\; Honorary Chairman\, 
 Korea PECC\nDr Charles E. Morrison\; Chair PECC\n\nModerator:  \n\nPeter T
 hompson\; ABC TV and Professor\, Australia and New Zealand School of Gover
 nment\n\nRapporteur: \n\nDr Manfred Wilhelmy\; Chair Chile PECC\n\n\n\n\n
 \n1900-2100\n\n\nConference Dinner\n  Rethinking international education e
 ngagement in the Asia Pacific region (205.68 kB) \n\nProfessor Stephanie F
 ahey\; Deputy Vice Chancellor (International) Monash University \n\n\n\n\n
 \nWednesday 2 May\n\n\n\n\n0900-1230\n\n\nDemographic Change\, Growth and 
 Integration \nSession Chair:  \n\nDr Soogil Young\; Chair Korea PECC\n\nKe
 ynote Address:\n Demographic Change in East and Southeast Asia and the Imp
 lications for the Future (622.58 kB)  \n\nProfessor Graeme Hugo\; National
  Centre for Social Applications of Geographic Information Systems\, Univer
 sity of Adelaide\n\n International Labour Migration in East Asia and Scope
  for Regional Cooperation (86.13 kB) \n\nDr Chia Siow Yue\; Senior Researc
 h Fellow\, Singapore Institute of International Affairs\n\n \n\n\n\n1000-1
 030\n\nTea and Coffee\n\n\n&nbsp\;\n\nPanel Discussion: Key aspects of dem
 ographic growth and integration    Demographic Change\, Growth and Integra
 tion (319.52 kB)\nPanel:\n\nProfessor Howard Dick\; University of Melbourn
 e  Cities: Why they matter and What PECC can do (2.43 MB)\nDr Marla Asis\;
  Scalabrini Migration Centre\, Philippines  Health Worker Migration: The C
 ase of the Philippines (510.7 kB) \nProfessor Akira Kohsaka\; PECC Pacific
  Economic Outlook project  Aging and Economic Growth Potentials in the Pac
 ific Region (189.27 kB) \nProfessor Graeme Hugo\; University of Adelaide\n
 Dr Chia Siow Yue\; Singapore Institute of International Affairs&nbsp\; \n
 \nModerator:  \n\nPeter Thompson\; ABC TV and Professor\, Australia and Ne
 w Zealand School of Government\n\nRapporteur: \n\nProfessor Gary Hawke\; C
 hair New Zealand PECC \n\n\n\n\n\n1230:1330\n\n\nBuffet Lunch\n\n\n\n\n133
 0-1400\n\n\nMinisterial Address\n Ministerial Address: Managing the Challe
 nges to Growth (59.01 kB)  \n\nThe Hon Warren Truss MP\; Minister for Trad
 e\n\n\n\n\n\n1400-1415\n\nBreak\n\n\n\n1415-1600\n\n\nEnergy and the Envir
 onment\nSession Chair:  \n\nAmbassador Mei Ping\; Chair China PECC\n\nKeyn
 ote Address:\n Managing the Environmental Impact of Energy Use (138.92 kB)
   \n\nProfessor Warwick McKibbin\; The Australian National University\, Ca
 nberra\n\nPanel:\n\nDr Tony Beck\; Australasian Emissions Trading Forum  M
 anaging the Environmental Impact of Energy Use (82.84 kB)\n\n\nDr David Ho
 ng\; President\, Taiwan Institute of Economic Research  Chinese Taipei’s R
 esponses to Global Energy and Environment Issues (72.56 kB)\nColin Whyte\;
  General Manager\, Sustainable Development\, Xstrata Coal  Role for coal i
 n a cleaner world (816.91 kB) \nMr Liu Qiang\; Energy Research Institute\,
  China  Energy Campaigns in China and its implication on Climate Change (3
 03.9 kB) \nProfessor Warwick McKibbin\; The Australian National University
   Energy and the Environment (338.61 kB) \n\n&nbsp\; Moderator:\n\nPeter T
 hompson\; ABC TV and Professor\, Australia and New Zealand School of Gover
 nment\n\nRapporteur: \n\nDavid Parsons\; Executive Director\, Committee on
  Investment and International Trade Development\, Indonesian Chamber of Co
 mmerce and Industry\n\n \n\n\n\n1600-1615\n\n\nClosing comments\n\nDr Char
 les E. Morrison\; Chair PECC\n\n\n\n\n https://www.pecc.org/event-calendar
 /past-events/event/34-pecc-xvii-seventeenth-general-meeting
DTSTART:20070429T000000Z
DTEND:20070502T000000Z
LOCATION:Australia\, Sydney ()
SUMMARY:PECC XVII: Seventeenth General Meeting
URL:https://www.pecc.org/event-calendar/past-events/event/34-pecc-xvii-seve
 nteenth-general-meeting
END:VEVENT
END:VCALENDAR
