BEGIN:VCALENDAR
VERSION:2.0
PRODID:-//https://www.pecc.org///NONSGML kigkonsult.se iCalcreator 2.10.15//
METHOD:PUBLISH
BEGIN:VEVENT
UID:20260423T161218UTC-6722acRLBc@https://www.pecc.org/
DTSTAMP:20260423T161218Z
DESCRIPTION:PECC International Project 2011 - 2012 : Sustainable Management
  of Marine ResourcesSeminar 2\nOceans as a Source of Renewable Energy \nHa
 waii\, USA\nMarch 26-28\, 2012\n&nbsp\;\n\n\n\n\nMonday\, March 26 \n\n\n
 \n\n0830-0900\n\n\nRegistration \n\n\n\n\n0900-0920\n\n\nOpening Remarks&n
 bsp\;\n\n\n\n\n0920-1230\n\n\nSession 1: New and existing technologies to 
 optimize use of energy from the oceansChair: \n\nCharles E. Morrison&nbsp\
 ;\, International Co-Chair\, PECC / President of East-West Center\n\n&nbsp
 \;\n\n\n\n\n0920-0940\n\n\nRecent Commercial OTEC Developments in the Paci
 fic Islands Region\n\n\nHans Krock\, Energy Harvesting Systems\, LLC\, Hon
 olulu\, Hawaii\n\n\n&nbsp\;\n\n\n\n\n0940-1000\n\n\nHonolulu Seawater Air 
 Conditioning (HSWAC) Project\n\n\nAnders Rydaker\, Chief Operating Officer
 \, HSWAC\, Honolulu\, Hawaii  Oceans as a source of Renewable Energy (844.
 81 kB)\n\n\n&nbsp\;\n\n\n\n\n1000-1020\n\n\nCoffee Break\n&nbsp\;\n\n\n\n
 \n1020-1040\n\n\nOverall picture of the marine renewable energy Innovation
  policies: a projected timetable to promote new marine technologies from r
 esearch and development to industrial implementation: a cost-efficiency ap
 proach\n\n\nHenri Boyé\, French Ministry of Sustainable Development\, Fran
 ce  The marine renewable energy innovation policies (2.09 MB)\n\n\n&nbsp\;
 \n\n\n\n1040-1100\nMechanical energy: actions of elements and energy conve
 rsion\, materials and structures\, need for computational and experimental
  modelling\, technological obstacles\n\nMarc Le Boulluec\, IFREMER\, Franc
 e  Mechanical energy\, wind\, waves\, current (4.8 MB)\n\n&nbsp\;\n\n\n\n
 \n1100-1230\n\n\nDiscussions\n&nbsp\;\n\n\n\n\n1230-1400\n\n\nLunch \n&nbs
 p\;\n\n\n\n\n1400-1530\n\n\nSession 2: New sources of energy from the ocea
 n (thermal\, wave\, tidal\, wind) - from technical potentialities to econo
 mic reality&nbsp\;Chair: \n\nMichel Paoletti\, Secretary General\, FPTPEC 
 Polynesia\n\n&nbsp\;\n\n\n\n\n1400-1420\n\n\nOcean thermal energy conversi
 on: challenges and opportunities\n\n\nGerard C. Nihous\, Associate Profess
 or\, University of Hawaii  Ocean Thermal Energy Conversion (OTEC) – Challe
 nges and Opportunities (4.71 MB)\n\n\n&nbsp\;\n\n\n\n\n1420-1440\n\n\nExpl
 oring ways to switch from fossil fuel to renewable electricity - the examp
 le of a Polynesia public utility\n\n\nMarc Chin Foo\, Project Manager\, ED
 T French Polynesia  From fuel based electricity to renewable energy (1.31 
 MB)\n\n\n&nbsp\;\n\n\n\n1440-1500\nUsage of new marine technologies in the
  coastal cities and integrating a wide range of renewable energies into ur
 ban electricity network: Operator's views on smart grids\n\nNicolas Renard
 \, Veolia Environnement\, France  Integrating the many sources of renewabl
 e energy into urban electricity networks (1.19 MB)\n\n&nbsp\;\n\n\n\n\n150
 0-1520\n\n\nExploration and utilization of marine renewable energy in Chin
 a\n\n\nWu Zhenglong\, Vice-Chair\, China National Committee for Pacific Ec
 onomic Cooperation (CNCPEC)  The Exploration and Utilization of Ocean Ener
 gy in China (67.77 kB)\n\n\n&nbsp\;\n\n\n\n\n1520-1600\n\n\nDiscussions\n
 \n\n\n\nTuesday\, March 27\n\n\n\n\n0900-1130\n\n\nSession 2: Continued\n
 \n\n\n\n0900-1130\n\n\nHawaii Ocean Science: Using Renewable Marine Resour
 ces and Ingenuity for the 21st Century\n\nGreg Barbour\, Executive Directo
 r\, NELHA\, Hawaii\n\n&nbsp\;\n\n\n\n\n1130-1230\n\n\nLunch\n&nbsp\;\n\n\n
 \n\n1230-1630\n\n\nNELHA Field Visits: Sopogy (Solar CSP)\, Makai Ocean En
 gineering (OTEC)\, Cellana (marine bioalgae)\, and Big Island Abalone. NEL
 HA marine support and OTEC infrastructure.\n\n\n\n\n1900\n\n\nDinner hoste
 d by FPTPEC\n&nbsp\;\n\n\n\n\nWednesday\, March 28\n\n\n\n\n0900-1230\n\n
 \nSession 3: Ways to increase the use of energy from marine sources: resea
 rch and incentivesChair:\n\nWu Zhenglong\, Vice Chair\, China National Com
 mittee for Pacific Economic Cooperation (CNCPEC)\n\n\n\n\n0900-0920\n&nbsp
 \;AMI-ADEME (invitation for expression of interest by the French Agency fo
 r Environment and Energy Management) and AAP IEED (call for projects for I
 nstitute of Excellence in Decarbonated Energies)\, France Energie Marine\n
 \nMarc Le Boulluec\, IFREMER\, France  France Energies Marines (1.15 MB)\n
 \n&nbsp\;\n\n\n\n0920-0940\n&nbsp\;EMACOP (Marine Coastal and Portuary Ene
 rgies) - A research project from France\n\nHenri Boyé\, Ministry of Sustai
 nable Development\, France EMACOP (Energies Marines\, Cotiéres et Portuari
 es) (1.33 MB)\n\n&nbsp\;\n\n\n\n0940-1000\n&nbsp\;'Synergie' - A case stud
 y of New Caledonia Cluster to develop\, promote and expand new renewable e
 nergy: wave energy\n\nPhilippe Marconnet\, New Caledonia Project Developme
 nt in Wave Energy - Pacific Islands and Indian Ocean Studies (2.53 MB)\n\n
 &nbsp\;\n\n\n\n1000-1020\nCoffee Break\n\n\n1020-1040\nDevelopment and com
 mercialization of the CETO wave technology - lessons and global market pot
 ential\n\nTim Sawyer\, Site Development Manager\, Carnegie Wave Energy Ltd
 \, Australia&nbsp\;Development and commercialisation of the CETO wave tech
 nology (2.92 MB)\n\n&nbsp\;\n\n\n\n1040-1100\nSPC (Secretariat of the Paci
 fic Community) - a case study of a regional organization that helps non-au
 tonomous territories attain energy independence and human resources develo
 pment through capacity-building\n\nSolomone Fifita\, Deputy Director of En
 ergy\, Secretariat of the Pacific Community\, New Caledonia&nbsp\;Options 
 for Energy Security in the small island states of the Pacific (1.87 MB)\n
 \n&nbsp\;\n\n\n\n1100-1230\nDiscussions\n\n\n1230-1400\nLunch\n\n\n1400-15
 30\nSession 4: Case studies of renewable energy in operationChair:\n\nDr. 
 Jerry Finin\, Director of Pacific Islands Development Program\, East West 
 Center\n\n&nbsp\; \n\n\n1400-1420\nA case study from Chinese Taipei: the d
 evelopment of a tidal power unit\n\nCheng-Han Tsai\, National Taiwan Ocean
  University\, Chinese Taipei&nbsp\;The development of tidal current power 
 unit for the sea near Keelung (1.91 MB)\n\n&nbsp\;\n\n\n\n1420-1440\nTherm
 al energy: a 10 MX project in Tahiti\n\nPhilippe Dubau\, Groupe Albert Mou
 x\n\n&nbsp\;\n\n\n\n1440-1500\nA case study from the Indian Ocean\, La Réu
 nion\n\nHenri Boyé\, Ministry of Sustainable Development\, France&nbsp\;Th
 e Reunion Island and the Atoll of Hao – Marine Renewable Energies (1.8 MB)
 \n\n&nbsp\;\n\n\n\n1500-1520\nSWAC integration in luxury hotels in French 
 Polynesia: case presentation on behalf of Dick Bailey\, Intercontinental B
 ora Bora and Brando resort in Tetiarao\n\nMichel Paoletti\, Secretary Gene
 ral\, FPTPEC Polynesia&nbsp\;Sustainable Development – Tetiaro\, Le Brando
  (3.31 MB)\n\n&nbsp\;\n\n\n\n1520-1600\nDiscussions\n\n\n1600-1700\nSessio
 n 5: Follow up and conclusion by session chairsChairs:\n\nCharles E. Morri
 son&nbsp\;&nbsp\;\, International Co-Chair\, PECC / President of East-West
  Center\nJean Luc Le Bideau\, Vice-Chair\, FPTPEC\n\n\n\n\n https://www.pe
 cc.org/event-calendar/past-events/event/231-pecc-marine-resources-seminar-
 2-oceans-as-a-source-of-renewable-energy
DTSTART:20120326T000000Z
DTEND:20120328T000000Z
LOCATION:Hawaii ()
SUMMARY:PECC Marine Resources Seminar 2: Oceans as a Source of Renewable En
 ergy
URL:https://www.pecc.org/event-calendar/past-events/event/231-pecc-marine-r
 esources-seminar-2-oceans-as-a-source-of-renewable-energy
END:VEVENT
END:VCALENDAR
